Package: ggtree Version: 3.14.0 Command: /Library/Frameworks/R.framework/Resources/bin/R CMD check --install=check:ggtree.install-out.txt --library=/Library/Frameworks/R.framework/Resources/library --no-vignettes --timings ggtree_3.14.0.tar.gz StartedAt: 2025-01-28 20:45:55 -0500 (Tue, 28 Jan 2025) EndedAt: 2025-01-28 20:47:11 -0500 (Tue, 28 Jan 2025) EllapsedTime: 75.5 seconds RetCode: 0 Status: OK CheckDir: ggtree.Rcheck Warnings: 0