Package: ggtree Version: 3.14.0 Command: rm -rf ggtree.buildbin-libdir && mkdir ggtree.buildbin-libdir && /Users/biocbuild/BBS/utils/build-universal.sh ggtree_3.14.0.tar.gz /Library/Frameworks/R.framework/Resources/bin/R ggtree.buildbin-libdir StartedAt: 2025-01-29 14:51:20 -0500 (Wed, 29 Jan 2025) EndedAt: 2025-01-29 14:51:34 -0500 (Wed, 29 Jan 2025) EllapsedTime: 13.7 seconds RetCode: 0 Status: OK PackageFile: ggtree_3.14.0.tgz PackageFileSize: 902.5 KiB