Package: ggspavis Version: 1.12.0 Command: /home/biocbuild/R/R/bin/R CMD build --keep-empty-dirs --no-resave-data ggspavis StartedAt: 2025-03-31 23:48:43 -0000 (Mon, 31 Mar 2025) EndedAt: 2025-03-31 23:50:38 -0000 (Mon, 31 Mar 2025) EllapsedTime: 114.1 seconds RetCode: 0 Status: OK PackageFile: ggspavis_1.12.0.tar.gz PackageFileSize: 2.267 MiB