Package: ggspavis Version: 1.12.0 Command: /Library/Frameworks/R.framework/Resources/bin/R CMD INSTALL ggspavis StartedAt: 2025-03-31 15:27:20 -0400 (Mon, 31 Mar 2025) EndedAt: 2025-03-31 15:28:16 -0400 (Mon, 31 Mar 2025) EllapsedTime: 56.6 seconds RetCode: 0 Status: OK