Package: ggspavis Version: 1.12.0 Command: /Library/Frameworks/R.framework/Resources/bin/R CMD INSTALL ggspavis StartedAt: 2025-03-31 15:45:14 -0400 (Mon, 31 Mar 2025) EndedAt: 2025-03-31 15:45:48 -0400 (Mon, 31 Mar 2025) EllapsedTime: 33.4 seconds RetCode: 0 Status: OK