Package: ggseqalign Version: 1.0.0 Command: /home/biocbuild/R/R/bin/R CMD build --keep-empty-dirs --no-resave-data ggseqalign StartedAt: 2025-03-31 23:48:31 -0000 (Mon, 31 Mar 2025) EndedAt: 2025-03-31 23:49:06 -0000 (Mon, 31 Mar 2025) EllapsedTime: 35.0 seconds RetCode: 0 Status: OK PackageFile: ggseqalign_1.0.0.tar.gz PackageFileSize: 542 KiB