Package: ggseqalign Version: 1.0.0 Command: /Library/Frameworks/R.framework/Resources/bin/R CMD INSTALL ggseqalign StartedAt: 2025-03-31 15:14:27 -0400 (Mon, 31 Mar 2025) EndedAt: 2025-03-31 15:14:53 -0400 (Mon, 31 Mar 2025) EllapsedTime: 25.2 seconds RetCode: 0 Status: OK