Package: ggsc Version: 1.4.0 Command: /home/biocbuild/R/R/bin/R CMD INSTALL ggsc StartedAt: 2025-02-03 21:08:01 -0000 (Mon, 03 Feb 2025) EndedAt: 2025-02-03 21:09:19 -0000 (Mon, 03 Feb 2025) EllapsedTime: 77.8 seconds RetCode: 0 Status: OK