Package: ggsc Version: 1.4.0 Command: F:\biocbuild\bbs-3.20-bioc\R\bin\R.exe CMD INSTALL ggsc StartedAt: 2025-01-27 16:42:08 -0500 (Mon, 27 Jan 2025) EndedAt: 2025-01-27 16:43:19 -0500 (Mon, 27 Jan 2025) EllapsedTime: 71.4 seconds RetCode: 0 Status: OK