Package: ggsc Version: 1.4.0 Command: rm -rf ggsc.buildbin-libdir && mkdir ggsc.buildbin-libdir && F:\biocbuild\bbs-3.20-bioc\R\bin\R.exe CMD INSTALL --build --library=ggsc.buildbin-libdir ggsc_1.4.0.tar.gz StartedAt: 2025-01-28 08:15:31 -0500 (Tue, 28 Jan 2025) EndedAt: 2025-01-28 08:17:07 -0500 (Tue, 28 Jan 2025) EllapsedTime: 96.5 seconds RetCode: 0 Status: OK PackageFile: ggsc_1.4.0.zip PackageFileSize: 732.5 KiB