Package: ggsc Version: 1.4.0 Command: /Library/Frameworks/R.framework/Resources/bin/R CMD check --install=check:ggsc.install-out.txt --library=/Library/Frameworks/R.framework/Resources/library --no-vignettes --timings ggsc_1.4.0.tar.gz StartedAt: 2024-11-19 22:36:13 -0500 (Tue, 19 Nov 2024) EndedAt: 2024-11-19 22:43:57 -0500 (Tue, 19 Nov 2024) EllapsedTime: 463.9 seconds RetCode: 0 Status: OK CheckDir: ggsc.Rcheck Warnings: 0