Package: ggsc Version: 1.4.0 Command: rm -rf ggsc.buildbin-libdir && mkdir ggsc.buildbin-libdir && /Users/biocbuild/BBS/utils/build-universal.sh ggsc_1.4.0.tar.gz /Library/Frameworks/R.framework/Resources/bin/R ggsc.buildbin-libdir StartedAt: 2024-11-09 16:51:49 -0500 (Sat, 09 Nov 2024) EndedAt: 2024-11-09 16:52:10 -0500 (Sat, 09 Nov 2024) EllapsedTime: 20.4 seconds RetCode: 0 Status: OK PackageFile: ggsc_1.4.0.tgz PackageFileSize: 349.9 KiB