Package: ggmsa Version: 1.12.0 Command: /home/biocbuild/bbs-3.20-bioc/R/bin/R CMD check --install=check:ggmsa.install-out.txt --library=/home/biocbuild/bbs-3.20-bioc/R/site-library --timings ggmsa_1.12.0.tar.gz StartedAt: 2025-01-27 23:33:10 -0500 (Mon, 27 Jan 2025) EndedAt: 2025-01-27 23:35:09 -0500 (Mon, 27 Jan 2025) EllapsedTime: 119.2 seconds RetCode: 0 Status: OK CheckDir: ggmsa.Rcheck Warnings: 0