Package: ggmsa Version: 1.12.0 Command: /Library/Frameworks/R.framework/Resources/bin/R CMD INSTALL ggmsa StartedAt: 2025-01-27 16:03:27 -0500 (Mon, 27 Jan 2025) EndedAt: 2025-01-27 16:04:04 -0500 (Mon, 27 Jan 2025) EllapsedTime: 36.9 seconds RetCode: 0 Status: OK