Package: ggmsa Version: 1.12.0 Command: /Library/Frameworks/R.framework/Resources/bin/R CMD build --keep-empty-dirs --no-resave-data ggmsa StartedAt: 2025-04-01 00:14:10 -0400 (Tue, 01 Apr 2025) EndedAt: 2025-04-01 00:14:48 -0400 (Tue, 01 Apr 2025) EllapsedTime: 37.7 seconds RetCode: 0 Status: OK PackageFile: ggmsa_1.12.0.tar.gz PackageFileSize: 3.721 MiB