Package: ggmanh Version: 1.10.0 Command: /Library/Frameworks/R.framework/Resources/bin/R CMD check --install=check:ggmanh.install-out.txt --library=/Library/Frameworks/R.framework/Resources/library --no-vignettes --timings ggmanh_1.10.0.tar.gz StartedAt: 2025-01-28 04:34:05 -0500 (Tue, 28 Jan 2025) EndedAt: 2025-01-28 04:35:42 -0500 (Tue, 28 Jan 2025) EllapsedTime: 97.4 seconds RetCode: 0 Status: OK CheckDir: ggmanh.Rcheck Warnings: 0