Package: ggmanh Version: 1.10.0 Command: /Library/Frameworks/R.framework/Resources/bin/R CMD build --keep-empty-dirs --no-resave-data ggmanh StartedAt: 2025-01-27 19:17:35 -0500 (Mon, 27 Jan 2025) EndedAt: 2025-01-27 19:19:26 -0500 (Mon, 27 Jan 2025) EllapsedTime: 110.8 seconds RetCode: 0 Status: OK PackageFile: ggmanh_1.10.0.tar.gz PackageFileSize: 4.415 MiB