Package: ggmanh Version: 1.10.0 Command: /home/biocbuild/R/R/bin/R CMD INSTALL ggmanh StartedAt: 2024-11-19 20:37:04 -0000 (Tue, 19 Nov 2024) EndedAt: 2024-11-19 20:37:10 -0000 (Tue, 19 Nov 2024) EllapsedTime: 6.0 seconds RetCode: 0 Status: OK