Package: ggmanh Version: 1.10.0 Command: /home/biocbuild/R/R/bin/R CMD check --install=check:ggmanh.install-out.txt --library=/home/biocbuild/R/R/site-library --no-vignettes --timings ggmanh_1.10.0.tar.gz StartedAt: 2024-11-20 08:20:47 -0000 (Wed, 20 Nov 2024) EndedAt: 2024-11-20 08:21:45 -0000 (Wed, 20 Nov 2024) EllapsedTime: 58.1 seconds RetCode: 0 Status: OK CheckDir: ggmanh.Rcheck Warnings: 0