Package: ggkegg Version: 1.4.0 Command: /home/biocbuild/bbs-3.20-bioc/R/bin/R CMD INSTALL ggkegg StartedAt: 2024-11-19 15:53:56 -0500 (Tue, 19 Nov 2024) EndedAt: 2024-11-19 15:54:05 -0500 (Tue, 19 Nov 2024) EllapsedTime: 8.5 seconds RetCode: 0 Status: OK