Package: ggkegg Version: 1.4.1 Command: /home/biocbuild/R/R/bin/R CMD build --keep-empty-dirs --no-resave-data ggkegg StartedAt: 2025-03-31 23:47:25 -0000 (Mon, 31 Mar 2025) EndedAt: 2025-03-31 23:48:15 -0000 (Mon, 31 Mar 2025) EllapsedTime: 50.0 seconds RetCode: 0 Status: OK PackageFile: ggkegg_1.4.1.tar.gz PackageFileSize: 2.659 MiB