Package: ggkegg Version: 1.4.1 Command: F:\biocbuild\bbs-3.20-bioc\R\bin\R.exe CMD INSTALL ggkegg StartedAt: 2025-03-31 15:37:20 -0400 (Mon, 31 Mar 2025) EndedAt: 2025-03-31 15:38:00 -0400 (Mon, 31 Mar 2025) EllapsedTime: 39.3 seconds RetCode: 0 Status: OK