Package: ggkegg Version: 1.4.1 Command: chmod a+r ggkegg -R && F:\biocbuild\bbs-3.20-bioc\R\bin\R.exe CMD build --keep-empty-dirs --no-resave-data ggkegg StartedAt: 2025-03-31 19:15:10 -0400 (Mon, 31 Mar 2025) EndedAt: 2025-03-31 19:16:14 -0400 (Mon, 31 Mar 2025) EllapsedTime: 65.0 seconds RetCode: 0 Status: OK PackageFile: ggkegg_1.4.1.tar.gz PackageFileSize: 2.623 MiB