Package: ggkegg Version: 1.4.1 Command: /home/biocbuild/bbs-3.20-bioc/R/bin/R CMD check --install=check:ggkegg.install-out.txt --library=/home/biocbuild/bbs-3.20-bioc/R/site-library --timings ggkegg_1.4.1.tar.gz StartedAt: 2025-02-03 22:48:23 -0500 (Mon, 03 Feb 2025) EndedAt: 2025-02-03 22:50:29 -0500 (Mon, 03 Feb 2025) EllapsedTime: 126.1 seconds RetCode: 0 Status: OK CheckDir: ggkegg.Rcheck Warnings: 0