Package: ggkegg Version: 1.4.1 Command: /Library/Frameworks/R.framework/Resources/bin/R CMD check --install=check:ggkegg.install-out.txt --library=/Library/Frameworks/R.framework/Resources/library --no-vignettes --timings ggkegg_1.4.1.tar.gz StartedAt: 2025-02-04 04:23:53 -0500 (Tue, 04 Feb 2025) EndedAt: 2025-02-04 04:27:07 -0500 (Tue, 04 Feb 2025) EllapsedTime: 194.2 seconds RetCode: 0 Status: OK CheckDir: ggkegg.Rcheck Warnings: 0