Package: ggcyto Version: 1.34.0 Command: /home/biocbuild/R/R/bin/R CMD build --keep-empty-dirs --no-resave-data ggcyto StartedAt: 2025-01-28 00:36:15 -0000 (Tue, 28 Jan 2025) EndedAt: 2025-01-28 00:38:23 -0000 (Tue, 28 Jan 2025) EllapsedTime: 128.1 seconds RetCode: 0 Status: OK PackageFile: ggcyto_1.34.0.tar.gz PackageFileSize: 19.3 MiB