Package: ggcyto Version: 1.34.0 Command: F:\biocbuild\bbs-3.20-bioc\R\bin\R.exe CMD INSTALL ggcyto StartedAt: 2025-01-27 16:00:15 -0500 (Mon, 27 Jan 2025) EndedAt: 2025-01-27 16:01:08 -0500 (Mon, 27 Jan 2025) EllapsedTime: 53.4 seconds RetCode: 0 Status: OK