Package: ggcyto Version: 1.34.0 Command: F:\biocbuild\bbs-3.20-bioc\R\bin\R.exe CMD check --no-multiarch --install=check:ggcyto.install-out.txt --library=F:\biocbuild\bbs-3.20-bioc\R\library --no-vignettes --timings ggcyto_1.34.0.tar.gz StartedAt: 2025-01-28 02:02:09 -0500 (Tue, 28 Jan 2025) EndedAt: 2025-01-28 02:05:46 -0500 (Tue, 28 Jan 2025) EllapsedTime: 217.6 seconds RetCode: 0 Status: WARNINGS CheckDir: ggcyto.Rcheck Warnings: 2