Package: ggcyto Version: 1.34.0 Command: /Library/Frameworks/R.framework/Resources/bin/R CMD check --install=check:ggcyto.install-out.txt --library=/Library/Frameworks/R.framework/Resources/library --no-vignettes --timings ggcyto_1.34.0.tar.gz StartedAt: 2025-01-28 04:33:33 -0500 (Tue, 28 Jan 2025) EndedAt: 2025-01-28 04:39:45 -0500 (Tue, 28 Jan 2025) EllapsedTime: 372.1 seconds RetCode: 0 Status: WARNINGS CheckDir: ggcyto.Rcheck Warnings: 2