Package: ggcyto Version: 1.34.0 Command: /Library/Frameworks/R.framework/Resources/bin/R CMD build --keep-empty-dirs --no-resave-data ggcyto StartedAt: 2025-01-27 19:17:34 -0500 (Mon, 27 Jan 2025) EndedAt: 2025-01-27 19:21:12 -0500 (Mon, 27 Jan 2025) EllapsedTime: 217.7 seconds RetCode: 0 Status: OK PackageFile: ggcyto_1.34.0.tar.gz PackageFileSize: 24.33 MiB