Package: ggcyto Version: 1.34.0 Command: /Library/Frameworks/R.framework/Resources/bin/R CMD check --install=check:ggcyto.install-out.txt --library=/Library/Frameworks/R.framework/Resources/library --no-vignettes --timings ggcyto_1.34.0.tar.gz StartedAt: 2025-04-01 20:38:01 -0400 (Tue, 01 Apr 2025) EndedAt: 2025-04-01 20:41:11 -0400 (Tue, 01 Apr 2025) EllapsedTime: 190.3 seconds RetCode: 0 Status: WARNINGS CheckDir: ggcyto.Rcheck Warnings: 2