Package: ggbio Version: 1.54.0 Command: F:\biocbuild\bbs-3.20-bioc\R\bin\R.exe CMD INSTALL ggbio StartedAt: 2025-01-30 16:17:10 -0500 (Thu, 30 Jan 2025) EndedAt: 2025-01-30 16:19:06 -0500 (Thu, 30 Jan 2025) EllapsedTime: 116.2 seconds RetCode: 0 Status: OK