Package: ggbio Version: 1.54.0 Command: /Library/Frameworks/R.framework/Resources/bin/R CMD build --keep-empty-dirs --no-resave-data ggbio StartedAt: 2025-02-04 00:21:52 -0500 (Tue, 04 Feb 2025) EndedAt: 2025-02-04 00:27:32 -0500 (Tue, 04 Feb 2025) EllapsedTime: 340.2 seconds RetCode: 0 Status: OK PackageFile: ggbio_1.54.0.tar.gz PackageFileSize: 3.096 MiB