Package: geva Version: 1.14.0 Command: /Library/Frameworks/R.framework/Resources/bin/R CMD INSTALL geva StartedAt: 2025-01-27 15:12:13 -0500 (Mon, 27 Jan 2025) EndedAt: 2025-01-27 15:12:34 -0500 (Mon, 27 Jan 2025) EllapsedTime: 21.5 seconds RetCode: 0 Status: OK