Package: geva Version: 1.14.0 Command: rm -rf geva.buildbin-libdir && mkdir geva.buildbin-libdir && /Users/biocbuild/BBS/utils/build-universal.sh geva_1.14.0.tar.gz /Library/Frameworks/R.framework/Resources/bin/R geva.buildbin-libdir StartedAt: 2024-11-20 04:29:04 -0500 (Wed, 20 Nov 2024) EndedAt: 2024-11-20 04:29:18 -0500 (Wed, 20 Nov 2024) EllapsedTime: 14.1 seconds RetCode: 0 Status: OK PackageFile: geva_1.14.0.tgz PackageFileSize: 2.677 MiB