Package: geva Version: 1.14.0 Command: /Library/Frameworks/R.framework/Resources/bin/R CMD build --keep-empty-dirs --no-resave-data geva StartedAt: 2025-01-28 00:21:36 -0500 (Tue, 28 Jan 2025) EndedAt: 2025-01-28 00:23:42 -0500 (Tue, 28 Jan 2025) EllapsedTime: 125.2 seconds RetCode: 0 Status: OK PackageFile: geva_1.14.0.tar.gz PackageFileSize: 2.245 MiB