Package: getDEE2 Version: 1.16.2 Command: F:\biocbuild\bbs-3.20-bioc\R\bin\R.exe CMD check --no-multiarch --install=check:getDEE2.install-out.txt --library=F:\biocbuild\bbs-3.20-bioc\R\library --no-vignettes --timings getDEE2_1.16.2.tar.gz StartedAt: 2025-01-28 02:01:49 -0500 (Tue, 28 Jan 2025) EndedAt: 2025-01-28 02:06:34 -0500 (Tue, 28 Jan 2025) EllapsedTime: 284.9 seconds RetCode: 0 Status: OK CheckDir: getDEE2.Rcheck Warnings: 0