Package: getDEE2 Version: 1.16.2 Command: rm -rf getDEE2.buildbin-libdir && mkdir getDEE2.buildbin-libdir && F:\biocbuild\bbs-3.20-bioc\R\bin\R.exe CMD INSTALL --build --library=getDEE2.buildbin-libdir getDEE2_1.16.2.tar.gz StartedAt: 2025-01-28 08:14:48 -0500 (Tue, 28 Jan 2025) EndedAt: 2025-01-28 08:15:12 -0500 (Tue, 28 Jan 2025) EllapsedTime: 24.3 seconds RetCode: 0 Status: OK PackageFile: getDEE2_1.16.2.zip PackageFileSize: 77.86 KiB