Package: getDEE2 Version: 1.16.2 Command: /home/biocbuild/bbs-3.20-bioc/R/bin/R CMD check --install=check:getDEE2.install-out.txt --library=/home/biocbuild/bbs-3.20-bioc/R/site-library --timings getDEE2_1.16.2.tar.gz StartedAt: 2025-01-27 23:31:45 -0500 (Mon, 27 Jan 2025) EndedAt: 2025-01-27 23:40:59 -0500 (Mon, 27 Jan 2025) EllapsedTime: 554.7 seconds RetCode: 0 Status: OK CheckDir: getDEE2.Rcheck Warnings: 0