Package: gespeR Version: 1.38.0 Command: /home/biocbuild/R/R/bin/R CMD INSTALL gespeR StartedAt: 2025-01-27 22:11:56 -0000 (Mon, 27 Jan 2025) EndedAt: 2025-01-27 22:11:57 -0000 (Mon, 27 Jan 2025) EllapsedTime: 0.2 seconds RetCode: 1 Status: ERROR