Package: gespeR Version: 1.38.0 Command: /Library/Frameworks/R.framework/Resources/bin/R CMD INSTALL gespeR StartedAt: 2025-01-27 18:28:59 -0500 (Mon, 27 Jan 2025) EndedAt: 2025-01-27 18:28:59 -0500 (Mon, 27 Jan 2025) EllapsedTime: 0.3 seconds RetCode: 1 Status: ERROR