Package: geomeTriD Version: 1.0.1 Command: /home/biocbuild/R/R/bin/R CMD build --keep-empty-dirs --no-resave-data geomeTriD StartedAt: 2025-03-31 23:44:57 -0000 (Mon, 31 Mar 2025) EndedAt: 2025-03-31 23:46:45 -0000 (Mon, 31 Mar 2025) EllapsedTime: 108.1 seconds RetCode: 0 Status: OK PackageFile: geomeTriD_1.0.1.tar.gz PackageFileSize: 1.292 MiB