Package: geomeTriD Version: 1.0.1 Command: /home/biocbuild/bbs-3.20-bioc/R/bin/R CMD INSTALL geomeTriD StartedAt: 2025-01-27 16:31:59 -0500 (Mon, 27 Jan 2025) EndedAt: 2025-01-27 16:33:04 -0500 (Mon, 27 Jan 2025) EllapsedTime: 64.5 seconds RetCode: 0 Status: OK