Package: genomicInstability Version: 1.12.0 Command: /home/biocbuild/R/R/bin/R CMD INSTALL genomicInstability StartedAt: 2025-03-31 20:53:11 -0000 (Mon, 31 Mar 2025) EndedAt: 2025-03-31 20:53:45 -0000 (Mon, 31 Mar 2025) EllapsedTime: 33.5 seconds RetCode: 0 Status: OK