Package: genomicInstability Version: 1.12.0 Command: /home/biocbuild/R/R/bin/R CMD build --keep-empty-dirs --no-resave-data genomicInstability StartedAt: 2025-02-03 23:50:52 -0000 (Mon, 03 Feb 2025) EndedAt: 2025-02-03 23:52:39 -0000 (Mon, 03 Feb 2025) EllapsedTime: 107.1 seconds RetCode: 0 Status: OK PackageFile: genomicInstability_1.12.0.tar.gz PackageFileSize: 1.213 MiB