Package: genomicInstability Version: 1.12.0 Command: /Library/Frameworks/R.framework/Resources/bin/R CMD check --install=check:genomicInstability.install-out.txt --library=/Library/Frameworks/R.framework/Resources/library --no-vignettes --timings genomicInstability_1.12.0.tar.gz StartedAt: 2025-04-01 20:17:28 -0400 (Tue, 01 Apr 2025) EndedAt: 2025-04-01 20:22:57 -0400 (Tue, 01 Apr 2025) EllapsedTime: 328.9 seconds RetCode: 0 Status: OK CheckDir: genomicInstability.Rcheck Warnings: 0