Package: genomes Version: 3.36.0 Command: /home/biocbuild/R/R/bin/R CMD INSTALL genomes StartedAt: 2025-01-27 21:06:35 -0000 (Mon, 27 Jan 2025) EndedAt: 2025-01-27 21:06:52 -0000 (Mon, 27 Jan 2025) EllapsedTime: 17.6 seconds RetCode: 0 Status: OK