Package: genomes Version: 3.36.0 Command: F:\biocbuild\bbs-3.20-bioc\R\bin\R.exe CMD check --no-multiarch --install=check:genomes.install-out.txt --library=F:\biocbuild\bbs-3.20-bioc\R\library --no-vignettes --timings genomes_3.36.0.tar.gz StartedAt: 2025-04-01 01:52:11 -0400 (Tue, 01 Apr 2025) EndedAt: 2025-04-01 01:52:45 -0400 (Tue, 01 Apr 2025) EllapsedTime: 33.9 seconds RetCode: 0 Status: OK CheckDir: genomes.Rcheck Warnings: 0