Package: genomes Version: 3.36.0 Command: chmod a+r genomes -R && F:\biocbuild\bbs-3.20-bioc\R\bin\R.exe CMD build --keep-empty-dirs --no-resave-data genomes StartedAt: 2025-03-31 19:11:04 -0400 (Mon, 31 Mar 2025) EndedAt: 2025-03-31 19:11:15 -0400 (Mon, 31 Mar 2025) EllapsedTime: 10.7 seconds RetCode: 0 Status: OK PackageFile: genomes_3.36.0.tar.gz PackageFileSize: 36.08 KiB