Package: genomes Version: 3.36.0 Command: rm -rf genomes.buildbin-libdir && mkdir genomes.buildbin-libdir && F:\biocbuild\bbs-3.20-bioc\R\bin\R.exe CMD INSTALL --build --library=genomes.buildbin-libdir genomes_3.36.0.tar.gz StartedAt: 2025-04-01 08:15:54 -0400 (Tue, 01 Apr 2025) EndedAt: 2025-04-01 08:16:03 -0400 (Tue, 01 Apr 2025) EllapsedTime: 9.7 seconds RetCode: 0 Status: OK PackageFile: genomes_3.36.0.zip PackageFileSize: 50.24 KiB